Workbook

Sheet METODOLOGÍA DE EVALUACIÓN
B2: EMPRESA PÚBLICA DEL MUNICIPIO DE SOACHA, EPUXUA AVANZA E.I.C.E
B4: FORMATO No. 3 EVALUACIÓN DE LAS CONDICIONES TÉCNICAS ADICIONALES
B5: METODOLOGÍA DE EVALUACIÓN - APLICABLE A TODAS LAS PÓLIZAS
B6: El Asegurado precisa que las condiciones, coberturas, cláusulas, límites y/o plazo indicados a continuación no son de obligatorio ofrecimiento y las aseguradoras participantes tienen la postedad de decidir su ofrecimiento. Para su evaluación se considerarán los siguientes criterios que corresponden a los generales aplicables, por lo tanto en el caso que se estipulen criterios particulares dentro del contenido de las condiciones, estos primarán sobre los generales: Las aseguradoras deben tener en cuenta que el ofrecimiento de condiciones que presten beneficio a la Entidad adicionales a las relacionadas en cada póliza pero que son en exceso a las mismas; no serán objeto de asignación de puntaje adicional a esos exceso y solo evaluables con base en los criterios que esten definidos en cada condición, no obstante la presentación de éstas obliga a la Aseguradora a su otorgamiento en caso de que el contrato le sea adjudicado y el oferente con la firma de la propuesta acepta esta condición.
B7: CONDICIONES ADICIONALES QUE CONTIENEN SOLO TEXTO: | D7: Se otorgará el máximo puntaje asignado a las propuestas que las ofrezcan con el mismo texto y bajo las mismas condiciones o en condiciones superiores en beneficio de la Entidad. Las propuestas que modifiquen el texto, sin que ello conlleve a la pérdida de la aplicabilidad y/u operatividad de la condición, se le asignará el 50% del puntaje y las propuestas que no las ofrezcan se calificarán con cero (0) puntos.
B8: CONDICIONES ADICIONALES QUE APLICAN SUBLÍMITES Y/O PLAZOS | D8: Se otorgará el máximo puntaje asignado a las propuestas que las ofrezcan o se aproxime al sublímite y/o plazo señalado. Las demás ofertas se calificarán en forma proporcional al de la propuesta calificada con el maximo puntaje. Para la aplicación de la calificación proporcional y descendente de coberturas y/o cláusulas que indiquen sublímites por evento / vigencia o agregado anual, se aplicará para la calificación de evento el 65% del puntaje establecido para la condición evaluada y el 35% para la de vigencia o agregado anual. De igual forma la oferta que contemple solamente sublímite para evento, se considerará para la calificación de los dos (2) aspectos, es decir, evento / vigencia o agregado anual.
B9: CONDICIONES ADICIONALES QUE APLIQUEN PARA OFERTAS DE LÍMITES Y/O VALORES FIJOS QUE SE REGISTREN EN TABLAS Y/O CONTENGAN RANGOS Y/O VALORES CON BASE EN LOS CUALES SE DEBE EFECTUAR EL OFRECIMIENTO. | D9: Las aseguradoras deben tener en cuenta: 1. Para acceder a calificación, el oferente deberá registrar en forma expresa y de manera clara, el valor y/o límite que ofrece. 2. Se otorga el máximo puntaje a la propuesta que dentro del rango o tabla se aproxime al máximo sublímite o plazo requerido y las demas ofertas se calificaran en forma proporcional a la propuesta calificada con el máximo puntaje. 3. En el caso de presentar propuesta por un valor y/o límite diferente al establecido en los rangos de la tabla, se tomará para la asignación de puntaje, el monto y/o límite del rango inmediatamente anterior al del valor ofrecido y el oferente acepta esta condición con la firma de la oferta y, de ser adjudicada la propuesta, expedirá la póliza con el valor indicado en la propuesta.
B10: CONDICIONES ADICIONALES NOTAS | D10: NOTA 1: Las aseguradoras deben señalar expresamente en su propuesta las Condiciones Adicionales que ofrece especificando los límites, periodos y demás información necesaria para su evaluación de acuerdo con las condiciones de cada una de ellas, en caso que manifieste "SE OTORGA" ó "SI" u otra expresión que implica que si esta otorgando la condición, pero no este especificado en el criterio de evaluación límite alguno, periodo o este como una condición abierta, la calificación será del 30% del puntaje establecido. NOTA 2: En caso que indique "SE OTORGA" ó "SI" u otra expresión que implica que si esta otorgando la condición, la Entidad entenderá que las mismas fueron ofrecidas al máximo límite o periodo y por lo tanto se asignará el mayor puntaje al límite y período requerido y de ser adjudicada la propuesta, la aseguradora expedirá la póliza con las condiciones máximas exigidas de ese criterio en particular.

Sheet COND ADIC. TRDMC
B2: EMPRESA PÚBLICA DEL MUNICIPIO DE SOACHA, EPUXUA AVANZA E.I.C.E
B4: FORMATO No. 3 EVALUACIÓN DE LAS CONDICIONES TÉCNICAS ADICIONALES
B5: GRUPO No. 1
B6: 1. PÓLIZA DE SEGURO DE TODO RIESGO DAÑOS MATERIALES COMBINADOS
B7: OBJETO DEL SEGURO
B8: Amparar todos los activos (bienes inmuebles y muebles) de propiedad de la EMPRESA PÚBLICA DEL MUNICIPIO DE SOACHA, EPUXUA AVANZA E.I.C.E, o aquellos que se encuentren bajo su control, tenencia, responsabilidad o custodia, contra los daños o pérdidas materiales a consecuencia de cualquier riesgo, tanto por eventos internos o externos, incluyendo las pérdidas consecuenciales por todo concepto y en general los recibidos a cualquier título o por los que tenga algún interés asegurable, ubicados en el territorio nacional o por aquellos que por su naturaleza se deban trasladar a nivel mundial, dentro o fuera de las instalaciones del asegurado y/o en predios de terceros o a la intemperie y los utilizados en desarrollo del objeto social de la EMPRESA PÚBLICA DEL MUNICIPIO DE SOACHA, EPUXUA AVANZA E.I.C.E.
B9: INFORMACIÓN GENERAL:
B10: TOMADOR: | C10: EMPRESA PÚBLICA DEL MUNICIPIO DE SOACHA, EPUXUA AVANZA E.I.C.E | G10: NIT. | H10: 901.511.522-4
B11: ASEGURADO: | C11: =+C10 -> EMPRESA PÚBLICA DEL MUNICIPIO DE SOACHA, EPUXUA AVANZA E.I.C.E | G11: NIT. | H11: =+H10 -> 901.511.522-4
B12: BENEFICIARIO: | C12: =+C11 -> EMPRESA PÚBLICA DEL MUNICIPIO DE SOACHA, EPUXUA AVANZA E.I.C.E | G12: NIT. | H12: =+H10 -> 901.511.522-4
B13: NOTA: | C13: CADA SUBLÍMITE OFRECIDO EN FORMA ADICIONAL QUEDA CONTEMPLADO DENTRO DEL LÍMITE ASEGURADO.
B14: CRITERIOS DE EVALUACIÓN:
B15: CONDICIÓN REQUERIDA PARA EVALUACIÓN | D15: CRITERIO DE EVALUACIÓN | E15: PUNTAJE ESTABLECIDO | F15: OFRECIMIENTO DEL PROPONENTE | H15: PUNTAJE OBTENIDO POR EL PROPONENTE
B16: GASTOS ADICIONALES. Sublímite por la suma de $200.000.000, incluido en el valor asegurado,sin aplicación de deducible y combinado para los gastos relacionados en en Anexo No. 1. | D16: Se califica el aumento adicional del sublímite Hasta un monto total de $400.000.000 | E16: 4
B17: ANTICIPO DE INDEMNIZACIÓN DEL 50% | D17: Se califica el aumento adicional del porcentaje ofrecido. | E17: 2
B18: RENUNCIA A LA APLICACIÓN DE SEGURO INSUFICIENTE Y/O INFRASEGURO Siempre y cuando la diferencia entre el valor asegurado y el valor asegurable no sea superior al 10%. | D18: Se califica en Condiciones Adicionales el aumento adicional del porcentaje ofrecido. Hasta un máximo del 20% | E18: 3
B19: CLÁUSULA DE NO TASACIÓN EN CASO DE SINIESTRO Sublímite de hasta $50.000.000, por siniestro. | D19: Se califica el aumento adicional del sublímite Hasta un monto total de $200.000.000 | E19: 3
B20: COMPROMISO PARA EL PAGO DE LAS INDEMNIZACIONES Plazo de diez (10) días hábiles. | D20: Se califica el menor número de días una vez demostrada ocurrencia y cuantía. | E20: 3
B21: AUTORIZACIÓN EXPRESA AL ASEGURADO PARA ATENCIÓN DE DAÑOS POR SINIESTROS CUYO VALOR NO EXCEDA $150.000.000. | D21: Se califica el aumento adicional del sublímite para la autorización expresa para la atención de siniestros. Hasta un monto total de $300.000.000 | E21: 3
B22: ASISTENCIA DOMICILIARIA Bajo esta condición la aseguradora se compromete a brindar el servicio de asistencia domiciliaria a la sede principal de la Entidad, para los servicios de plomería, electricidad y cerrajería. Acorde con las políticas establecidas en los clausulados particulares de cada aseguradora. | D22: Se califica el otorgamiento de esta Asistencia. | E22: 2
B23: MÁXIMO CALIFICACIÓN | E23: =SUM(E16:E22) -> 20 | F23: CALIFICACIÓN DEL PROPONENTE | H23: =SUM(H16:H22) -> 0
H24: =+'METODOLOGÍA DE EVALUACIÓN'!G11 -> 0

Sheet COND ADIC. MANEJO GLOBAL
B2: EMPRESA PÚBLICA DEL MUNICIPIO DE SOACHA, EPUXUA AVANZA E.I.C.E
B4: FORMATO No. 3 EVALUACIÓN DE LAS CONDICIONES TÉCNICAS ADICIONALES
B5: GRUPO No. 1
B6: 2. PÓLIZA DE SEGURO GLOBAL DE MANEJO PARA ENTIDADES OFICIALES
B7: OBJETO DEL SEGURO
B8: Amparar los riesgos que impliquen menoscabo de los fondos y/o bienes de propiedad de EMPRESA PÚBLICA DEL MUNICIPIO DE SOACHA, EPUXUA AVANZA E.I.C.E o que estén bajo su tenencia, control y/o responsabilidad causados por acciones u omisiones de sus servidores, que incurran en delitos contra la administración pública o fallos con responsabilidad fiscal, por incumplimiento de las disposiciones legales y reglamentarias, incluyendo el costo de la rendición de cuentas en caso de abandono del cargo o fallecimiento del empleado, en concordancia con la Resolución 014249 del 15 de mayo de 1992, aprobada por la Contraloría General de la República.
B9: INFORMACIÓN GENERAL:
B10: TOMADOR: | C10: =+'COND ADIC. TRDMC'!$C$10:$F$10 -> EMPRESA PÚBLICA DEL MUNICIPIO DE SOACHA, EPUXUA AVANZA E.I.C.E | G10: NIT. | H10: =+'COND ADIC. TRDMC'!H10 -> 901.511.522-4
B11: ASEGURADO: | C11: =+C10 -> EMPRESA PÚBLICA DEL MUNICIPIO DE SOACHA, EPUXUA AVANZA E.I.C.E | G11: NIT. | H11: =+H10 -> 901.511.522-4
B12: BENEFICIARIO: | C12: =+C11 -> EMPRESA PÚBLICA DEL MUNICIPIO DE SOACHA, EPUXUA AVANZA E.I.C.E | G12: NIT. | H12: =+H10 -> 901.511.522-4
B13: NOTA: | C13: CADA SUBLÍMITE OFRECIDO EN FORMA ADICIONAL QUEDA CONTEMPLADO DENTRO DEL LÍMITE ASEGURADO.
B14: CRITERIOS DE EVALUACIÓN:
B15: CONDICIÓN REQUERIDA PARA EVALUACIÓN | E15: CRITERIO DE EVALUACIÓN | F15: PUNTAJE ESTABLECIDO | G15: OFRECIMIENTO DEL OFERENTE | I15: PUNTAJE OBTENIDO POR EL OFERENTE
B16: INCREMENTO DEL LÍMITE BÁSICO PARA LA COBERTURA DE MANEJO GLOBAL. LÍMITE $500.000.000. EVENTO / AGREGADO ANUAL. | D16: PUNTOS | E16: Se califica el aumento adicional del límite asegurado. SIN COBRO DE PRIMA | F16: 10
B17: Límite adicional al básico mayor a $40.000.000 y hasta $80.000.000 | D17: 1
B18: Límite adicional al básico mayor a $80.000.000 y hasta $100.000.000 | D18: 3
B19: Límite adicional al básico mayor a $100.000.000 y hasta $120.000.000 | D19: 7
B20: Límite adicional al básico mayor a $120.000.000 y hasta $140.000.00 | D20: 10
B21: ANTICIPO DE INDEMNIZACIÓN DEL 50% | E21: Se califica el aumento adicional del porcentaje ofrecido. | F21: 3
B22: RESTABLECIMIENTO ADICIONAL AUTOMÁTICO DEL LÍMITE ASEGURADO POR PAGO DE SINIESTRO, HASTA UNA (1) VEZ EL LÍMITE CONTRATADO CON COBRO DE PRIMA A PRORRATA | E22: Se califica el número de reestablecimientos adicionales, únicamente relacionados en la tabla de rangos en la condición requerida para la evaluación. | F22: 5
B23: Superior a 1,5 veces y hasta 2,0 veces | D23: 2
B24: Superior a 2,0 veces y hasta 2,5 veces | D24: 3
B25: Superior a 2,5 veces y hasta 3,0 veces | D25: 5
B26: COMPROMISO PARA EL PAGO DE LAS INDEMNIZACIONES Plazo de diez (10) días hábiles. | E26: Se califica el menor número de días una vez demostrada ocurrencia y cuantía. | F26: 2
B27: MÁXIMO CALIFICACIÓN | F27: =SUM(F16:F26) -> 20 | G27: CALIFICACIÓN DEL OFERENTE | I27: =SUM(I16:I26) -> 0
I28: =+'METODOLOGÍA DE EVALUACIÓN'!G11 -> 0

Sheet COND ADIC. RCE
B2: =+'COND ADIC. TRDMC'!$B$2:$H$2 -> EMPRESA PÚBLICA DEL MUNICIPIO DE SOACHA, EPUXUA AVANZA E.I.C.E
B4: FORMATO No. 3 EVALUACIÓN DE LAS CONDICIONES TÉCNICAS ADICIONALES
B5: GRUPO No. 1
B6: 3. PÓLIZA DE SEGURO DE RESPONSABILIDAD CIVIL EXTRACONTRACTUAL
B7: OBJETO DEL SEGURO
B8: Amparar los perjuicios patrimoniales y extrapatrimoniales que cause la EMPRESA PÚBLICA DEL MUNICIPIO DE SOACHA, EPUXUA AVANZA E.I.C.E como consecuencia de la Responsabilidad Civil Extracontractual originada dentro o fuera de sus instalaciones, en el desarrollo de sus actividades o en lo relacionado con ella, lo mismo que los actos de sus empleados y funcionarios o el personal para el apoyo a la gestión administrativa dentro y fuera del territorio nacional o por bienes que se encuentren bajo tenencia, control y/o responsabilidad . Nota: Se entenderán como terceros todas y cada una de las personas que circulen, ingresen, accedan o se encuentren en los predios de asegurado o por los cuales es responsable en su aseguramiento, independientemente que el asegurado le esté prestando un servicio objeto de su razón social. De igual forma se debe dar cobertura a los perjuicios que se lleguen a causar a familiares del funcionario o de terceros derivados de la realización de teletrabajo por parte de los funcionarios o los contratistas para el apoyo a la misionalidad o la la gestión o los perjucios que se lleguen a causar a bienes derivados de esta nueva modalidad de trabajo.
B9: INFORMACIÓN GENERAL:
B10: TOMADOR: | C10: =+'COND ADIC. TRDMC'!$C$10:$F$10 -> EMPRESA PÚBLICA DEL MUNICIPIO DE SOACHA, EPUXUA AVANZA E.I.C.E | G10: NIT. | H10: =+'COND ADIC. TRDMC'!H10 -> 901.511.522-4
B11: ASEGURADO: | C11: =+C10 -> EMPRESA PÚBLICA DEL MUNICIPIO DE SOACHA, EPUXUA AVANZA E.I.C.E | G11: NIT. | H11: =+H10 -> 901.511.522-4
B12: BENEFICIARIOS: | C12: TERCEROS AFECTADOS
B13: NOTA: | C13: CADA SUBLÍMITE OFRECIDO EN FORMA ADICIONAL QUEDA CONTEMPLADO DENTRO DEL LÍMITE ASEGURADO.
B14: CRITERIOS DE EVALUACIÓN:
B15: CONDICIÓN REQUERIDA PARA EVALUACIÓN | E15: CRITERIO DE EVALUACIÓN | F15: PUNTAJE ESTABLECIDO | G15: OFRECIMIENTO DEL OFERENTE | I15: PUNTAJE OBTENIDO POR EL OFERENTE
B16: INCREMENTO DEL LÍMITE BÁSICO PARA LA COBERTURA DE RESPONSABILIDAD CIVIL EXTRACONTRACTUAL $1.000.000.000 EVENTO / AGREGADO ANUAL. Solo se acepta propuesta en los límites a continuación señalados, ofrecimientos de otros valores diferentes serán evaluados con cero (0) puntos). | D16: PUNTOS | E16: Se califica el aumento adicional del límite asegurado. SIN COBRO DE PRIMA | F16: 5
B17: Límite adicional al básico mayor a $300.000.000 y hasta $500.000.000 | D17: 2
B18: Límite adicional al básico mayor a $500.000.000 y hasta $1.000.000.000 | D18: 3
B19: Límite adicional al básico mayor a $1.000.000.000 y hasta $2.000.000.000 | D19: 5
B20: GASTOS MÉDICOS (sin aplicación de deducibles). Sublímite $25.000.000 evento / $100.000.000 agregado anual. | D20: 3 | E20: Se califica el aumento adicional del sublímite evento. Hasta un monto total de $40.000.000 | F20: 3
D21: 3 | E21: Se califica el aumento adicional del sublímite agregado anual. Hasta un monto total de $120.000.000 | F21: 3
B22: RESPONSABILIDAD CIVIL PATRONAL Sublímite de $100.000.000 persona / $1.000.000.000 Agregado anual. | D22: 2 | E22: Se califica el aumento adicional del sublímite POR PERSONA Hasta un monto total de $120.000.000 | F22: 2
D23: 2 | E23: Se califica el aumento adicional del sublímite AGREGADO ANUAL Hasta un monto total de $200.000.000 | F23: 2
B24: ANTICIPO DE INDEMNIZACIÓN DEL 50% | D24: 1 | E24: Se califical el aumento adicional del porcentaje ofrecido | F24: 1
B25: RESTABLECIMIENTO ADICIONAL AUTOMÁTICO DEL LÍMITE ASEGURADO POR PAGO DE SINIESTRO, HASTA UNA (1) VEZ EL LÍMITE CONTRATADO CON COBRO DE PRIMA A PRORRATA | E25: Se califica el número de reestablecimientos adicionales, únicamente relacionados en la tabla de rangos en la condición requerida para la evaluación. | F25: 3
B26: Superior a 1,5 veces y hasta 2,0 veces | D26: 1
B27: Superior a 2,0 veces y hasta 2,5 veces | D27: 2
B28: Superior a 2,5 veces y hasta 3,0 veces | D28: 3
B29: COMPROMISO PARA EL PAGO DE LAS INDEMNIZACIONES Plazo de diez (10) días hábiles. | D29: 1 | E29: Se califica el menor número de días una vez demostrada ocurrencia y cuantía. | F29: 1
B30: MÁXIMO CALIFICACIÓN | F30: =SUM(F16:F29) -> 20 | G30: CALIFICACIÓN DEL OFERENTE | I30: =SUM(I16:I29) -> 0
I31: =+'METODOLOGÍA DE EVALUACIÓN'!G11 -> 0

Sheet COND ADIC. RCSP
B2: =+'COND ADIC. RCE'!B2:I2 -> EMPRESA PÚBLICA DEL MUNICIPIO DE SOACHA, EPUXUA AVANZA E.I.C.E
B4: FORMATO No. 3 EVALUACIÓN DE LAS CONDICIONES TÉCNICAS ADICIONALES
B5: GRUPO No. 1
B6: 4. PÓLIZA DE RESPONSABILIDAD CIVIL SERVIDORES PÚBLICOS
B7: OBJETO DEL SEGURO
B8: Amparar los perjuicios o detrimentos patrimoniales causados a la EMPRESA PÚBLICA DEL MUNICIPIO DE SOACHA, EPUXUA AVANZA E.I.C.E, como consecuencia de decisiones de gestión incorrectas, pero no dolosas, adoptadas y/o ejecutadas o inejecutadas, por los Servidores Públicos y/o funcionarios con regímenes de responsabilidad similares a los de los servidores públicos, cuyos cargos se relacionan en el presente Pliego de Condiciones. Al igual que asumir los gastos de defensa (honorarios profesionales de abogados defensores y cauciones judiciales) según los límites por etapas procesales establecidos en este documento, en todo tipo de procesos, incluidos los penales siempre que se trate de delitos no dolosos; civiles; administrativos; iniciados por entes de control (Procuraduría, Contraloría o similares), investigaciones o procesos internos, o; por cualquier organismo oficial, en los que se discuta la responsabilidad correspondiente a los cargos asegurados.
B9: INFORMACIÓN GENERAL:
B10: TOMADOR: | C10: =+'COND ADIC. RCE'!$C$10:$F$10 -> EMPRESA PÚBLICA DEL MUNICIPIO DE SOACHA, EPUXUA AVANZA E.I.C.E | G10: NIT. | H10: =+'COND ADIC. TRDMC'!H10 -> 901.511.522-4
B11: ASEGURADO: | C11: EMPRESA PÚBLICA DEL MUNICIPIO DE SOACHA, EPUXUA AVANZA E.I.C.E Y/O CARGOS ASEGURADOS | G11: NIT. | H11: =+H10 -> 901.511.522-4
B12: BENEFICIARIO: | C12: EMPRESA PÚBLICA DEL MUNICIPIO DE SOACHA, EPUXUA AVANZA E.I.C.E Y/O CARGOS ASEGURADOS Y/O TERCEROS AFECTADOS | G12: NIT. | H12: =+H10 -> 901.511.522-4
B13: NOTA: | C13: CADA SUBLÍMITE OFRECIDO EN FORMA ADICIONAL QUEDA CONTEMPLADO DENTRO DEL LÍMITE ASEGURADO.
B14: CRITERIOS DE EVALUACIÓN:
B15: CONDICIÓN REQUERIDA PARA EVALUACIÓN | E15: CRITERIO DE EVALUACIÓN | F15: PUNTAJE ESTABLECIDO | G15: OFRECIMIENTO DEL OFERENTE | I15: PUNTAJE OBTENIDO POR EL OFERENTE
B16: INCREMENTO DEL LÍMITE BÁSICO PARA LA COBERTURA DE PERJUICIOS O DETRIMENTO PATRIMONIAL. | E16: Se califica el aumento adicional del límite asegurado, únicamente relacionados en la tabla de rangos en la condición requerida para la evaluación. SIN COBRO DE PRIMA | F16: 3
B17: Sublímite de $2.500.000.000 evento /agregado anual. Incluido los Gastos de Defensa. | D17: PUNTOS
B18: Ofrecimiento adicional superior a $100.000.000 y hasta $200.000.000 | D18: 1
B19: Ofrecimiento adicional superior a 200.000.000 y hasta $300.000.000 | D19: 1.5
B20: Ofrecimiento adicional superior a $300.000.000 y hasta $400.000.000 | D20: 2
B21: Ofrecimiento adicional superior a $400.000.000 y hasta $500.000.000 | D21: 3
B22: INCREMENTO DEL LÍMITE BÁSICO PARA LA COBERTURA DE GASTOS DE DEFENSA. Incluidos en el límite de Perjuicios o Detrimento Patrimonial sin cobro de prima. | E22: Se califica el aumento adicional del límite asegurado, únicamente relacionados en la tabla de rangos en la condición requerida para la evaluación. SIN COBRO DE PRIMA | F22: 9
B23: Sublímite de $1.50.000.000 evento / agregado anual. Incluidos en el límite de Perjuicios o Detrimento Patrimonial sin cobro de prima. | D23: PUNTOS
B24: Ofrecimiento adicional de $100.000.000 al límite básico. | D24: 2
B25: Ofrecimiento adicional de $200.000.000 al límite básico. | D25: 3
B26: Ofrecimiento adicional de $300.000.000 al límite básico. | D26: 4
B27: Ofrecimiento adicional de $400.000.000 al límite básico. | D27: 6
B28: Ofrecimiento adicional de $500.000.000 al límite básico. | D28: 9
B29: PROCESOS VERBALES SUMARIOS EN LO DISCIPLINARIO | E29: Se califica el aumento adicional del sublímite por PERSONA Y POR CADA PROCESO PARA CADA UNA DE LAS PERSONAS | F29: 2
B30: Ofrecimiento adicional de $10.000.000 al límite básico. | D30: 0.5
B31: Ofrecimiento adicional de $20.000.000 al límite básico. | D31: 1
B32: Ofrecimiento adicional de $30.000.000 al límite básico. | D32: 1.5
B33: Ofrecimiento adicional de $40.000.000 al límite básico. | D33: 2
B34: PROCESOS VERBALES SUMARIOS DE RESPONSABILIDAD FISCAL | E34: Se califica el aumento adicional del sublímite por PERSONA Y POR CADA PROCESO PARA CADA UNA DE LAS PERSONAS | F34: 2
B35: Ofrecimiento adicional de $10.000.000 al límite básico. | D35: 0.5
B36: Ofrecimiento adicional de $20.000.000 al límite básico. | D36: 1
B37: Ofrecimiento adicional de $30.000.000 al límite básico. | D37: 1.5
B38: Ofrecimiento adicional de $40.000.000 al límite básico. | D38: 2
B39: ANTICIPO DE INDEMNIZACIÓN DEL 50% | E39: Se califica el aumento adicional del porcentaje ofrecido. | F39: 1
B40: COBERTURA PARA DOS (2) CARGOS ADICIONALES SIN COBRO DE PRIMA | E40: Se califica el aumento adicional del sublímite por PERSONA Y POR CADA PROCESO PARA CADA UNA DE LAS PERSONAS | F40: 3
B41: Ofrecimiento de un (1) cargo adicional | D41: 1
B42: Ofrecimiento de dos (2) cargos adicionales | D42: 3
...

Sheet COND ADIC. IRF
B2: =+'COND ADIC. RCSP'!B2:I2 -> EMPRESA PÚBLICA DEL MUNICIPIO DE SOACHA, EPUXUA AVANZA E.I.C.E
B4: FORMATO No. 3 EVALUACIÓN DE LAS CONDICIONES TÉCNICAS ADICIONALES
B5: GRUPO No. 3
B6: 5. PÓLIZA DE INFIDELIDAD Y RIESGOS FINANCIEROS
B7: OBJETO DEL SEGURO
B8: Amparar bajo las condiciones de la Póliza de Infidelidad de Riesgos Financieros – IRF, las perdidas, daños y gastos en que tenga que incurrir la EMPRESA PÚBLICA DEL MUNICIPIO DE SOACHA, EPUXUA AVANZA E.I.C.E, como consecuencia de los riesgos a que está expuesto en el giro de su actividad, causados por empleados, terceros o en complicidad con éstos.
B9: INFORMACIÓN GENERAL:
B10: TOMADOR: | C10: =+'COND ADIC. RCSP'!$C$10:$F$10 -> EMPRESA PÚBLICA DEL MUNICIPIO DE SOACHA, EPUXUA AVANZA E.I.C.E | F10: NIT. | G10: =+'COND ADIC. TRDMC'!H10 -> 901.511.522-4
B11: ASEGURADO: | C11: =+C10 -> EMPRESA PÚBLICA DEL MUNICIPIO DE SOACHA, EPUXUA AVANZA E.I.C.E | F11: NIT. | G11: =+G10 -> 901.511.522-4
B12: BENEFICIARIO: | C12: =+C11 -> EMPRESA PÚBLICA DEL MUNICIPIO DE SOACHA, EPUXUA AVANZA E.I.C.E | F12: NIT. | G12: =+G10 -> 901.511.522-4
B13: NOTA: | C13: CADA SUBLÍMITE OFRECIDO EN FORMA ADICIONAL QUEDA CONTEMPLADO DENTRO DEL LÍMITE ASEGURADO.
B14: CRITERIOS DE EVALUACIÓN:
B15: CONDICIÓN REQUERIDA PARA EVALUACIÓN | D15: CRITERIO DE EVALUACIÓN | E15: PUNTAJE ESTABLECIDO | F15: OFRECIMIENTO DEL OFERENTE | H15: PUNTAJE OBTENIDO POR EL OFERENTE
B16: RESTABLECIMIENTO AUTOMÁTICO DEL LÍMITE ASEGURADO POR PAGO DE SINIESTRO, HASTA UNA (1) VEZ EL LÍMITE CONTRATADO CON COBRO DE PRIMA A PRORRATA. | D16: Se califica el número de restablecimientos ofrecidos. | E16: 4
B17: ANTICIPO DE INDEMNIZACIÓN DEL 50% | D17: Se califica el aumento adicional del porcentaje ofrecido. | E17: 3
B18: COMPROMISO PARA EL PAGO DE LAS INDEMNIZACIONES Plazo de diez (10) días hábiles. | D18: Se califica el menor número de días una vez demostrada ocurrencia y cuantía. | E18: 3
B19: BONO POR NO RECLAMACIÓN DIEZ (10%) POR CIENTO Está entendido y acordado que se otorga un descuento 10% de bono por no reclamación, pagadero a la expiración como devolución de prima bruta. Queda expresamente convenido y aceptado que la aseguradora efectuará el pago de la devolución del monto a que tenga derecho la entidad asegurada, por concepto de la Cláusula de Bono por no Reclamación, sin sujetar el mismo a la renovación y/o prórroga de la póliza, con la misma aseguradora y/o reaseguradores siempre y cuando la vigencia sea mínimo de un año. De igual forma se acuerdo que la aseguradora presentará a la entidad asegurada la liquidación de la devolución correspondiente, dentro de los treinta (30) días siguientes a la fecha de vencimiento de cada período anual de la vigencia de la póliza previa certificación expedida por el asegurado a la expiración de la póliza de no conocimiento de hechos o circunstancias que puedan afectar la póliza. “Lo anterior sujeto a carta de liberación de responsabilidad por parte del asegurado”. | E19: 6
B20: OFRECIMIENTO DE ESTUDIO DE RIESGOS CON COSTO A CARGO DE LA ASEGURADORA (SURVEY) Las recomendaciones, sugerencias y/o demás aspectos que se deriven del resultado de este estudio, no generarán exigencia de implementación de medidas de prevención y/o control de riesgo, aplicación de garantías o cualquier tipo de compromiso para el asegurado, así como la modificación de las condiciones ofertadas. El estudio deberá realizarse dentro de los cuatro (4) primeros meses de la vigencia de la póliza, para lo cual la aseguradora se compromete a presentar dentro de los primeros treinta (30) dias calendarios, contados a partir de la fecha del inicio de la vigencia de la póliza, el cronograma en el que se indiquen las actividades que desarrollará para tal efecto y los funcionarios y/o firma externa que llevarán a cabo las mismas. | D20: Se califica el otorgamiento del Estudio de Riesgos | E20: 4
B21: MÁXIMO CALIFICACIÓN | E21: =SUM(E16:E20) -> 20 | F21: CALIFICACIÓN DEL OFERENTE | H21: =SUM(H16:H20) -> 0
H22: =+'METODOLOGÍA DE EVALUACIÓN'!G11 -> 0
